BEGIN:VCALENDAR
VERSION:2.0
PRODID:-//Austinburg Township, Ohio - ECPv6.15.20//NONSGML v1.0//EN
CALSCALE:GREGORIAN
METHOD:PUBLISH
X-WR-CALNAME:Austinburg Township, Ohio
X-ORIGINAL-URL:https://austinburg.org
X-WR-CALDESC:Events for Austinburg Township, Ohio
REFRESH-INTERVAL;VALUE=DURATION:PT1H
X-Robots-Tag:noindex
X-PUBLISHED-TTL:PT1H
BEGIN:VTIMEZONE
TZID:America/New_York
BEGIN:DAYLIGHT
TZOFFSETFROM:-0500
TZOFFSETTO:-0400
TZNAME:EDT
DTSTART:20240310T070000
END:DAYLIGHT
BEGIN:STANDARD
TZOFFSETFROM:-0400
TZOFFSETTO:-0500
TZNAME:EST
DTSTART:20241103T060000
END:STANDARD
BEGIN:DAYLIGHT
TZOFFSETFROM:-0500
TZOFFSETTO:-0400
TZNAME:EDT
DTSTART:20250309T070000
END:DAYLIGHT
BEGIN:STANDARD
TZOFFSETFROM:-0400
TZOFFSETTO:-0500
TZNAME:EST
DTSTART:20251102T060000
END:STANDARD
BEGIN:DAYLIGHT
TZOFFSETFROM:-0500
TZOFFSETTO:-0400
TZNAME:EDT
DTSTART:20260308T070000
END:DAYLIGHT
BEGIN:STANDARD
TZOFFSETFROM:-0400
TZOFFSETTO:-0500
TZNAME:EST
DTSTART:20261101T060000
END:STANDARD
BEGIN:DAYLIGHT
TZOFFSETFROM:-0500
TZOFFSETTO:-0400
TZNAME:EDT
DTSTART:20270314T070000
END:DAYLIGHT
BEGIN:STANDARD
TZOFFSETFROM:-0400
TZOFFSETTO:-0500
TZNAME:EST
DTSTART:20271107T060000
END:STANDARD
END:VTIMEZONE
BEGIN:VEVENT
DTSTART;TZID=America/New_York:20260422T183000
DTEND;TZID=America/New_York:20260422T200000
DTSTAMP:20260420T021101
CREATED:20260407T005939Z
LAST-MODIFIED:20260407T010158Z
UID:108358-1776882600-1776888000@austinburg.org
SUMMARY:Zoning Board of Appeals Public Hearing
DESCRIPTION:Legal Notice.   \nThe Austinburg Township Zoning Board of Appeals (ZBA) of Ashtabula County\, Ohio gives notice that a public meeting will be held on Wednesday\, April 22\, 2026\, at 6:30 pm at the Austinburg Town Hall (located at 2794 State Route 307\, Austinburg\, OH) to hear an appeal from the decision of the Zoning Inspector. \nAppeal Application 26-001: GH Drive Hotels LLC of 2900 GH Drive\, Austinburg\, OH requests a variance for Parcel ID: 07-003-10-003-00 from the required frontage of 100 ft per “Austinburg Township Zoning Resolution; A08-2_District-Regulations-Tables; Official Schedule Of Permitted Uses And Dimensional Requirements Zoning District: AC – Accommodation Commercial District”. A proposed split of parcel 07-003- 10-003-00 (2883 G H Dr\, Austinburg\, OH 44010) will create a flag lot with reduced frontage. This will permit access to the created parcel thus allowing for appropriate usage of the land. \nA copy of the appeal is on file with the Zoning Office and available for inspection and copying upon request to the Secretary at 440-275-1378. All persons have the right to appear in person or by representation to question the owner or give testimony. If you wish to comment on these requests and cannot attend the hearing on this date\, please submit your comments in writing to the Austinburg Township Zoning Board of Appeals; P. O. Box 134\, Austinburg\, OH 44010 or leave comments with the Zoning Office.
URL:https://austinburg.org/event/zoning-board-of-appeals-public-hearing/
LOCATION:Austinburg Township Hall\, 2794 OH-307\, Austinburg\, OH\, 44010\, United States
CATEGORIES:Zoning Board Meetings
END:VEVENT
BEGIN:VEVENT
DTSTART;TZID=America/New_York:20260420T193000
DTEND;TZID=America/New_York:20260420T203000
DTSTAMP:20260420T021101
CREATED:20260220T173839Z
LAST-MODIFIED:20260220T173839Z
UID:108308-1776713400-1776717000@austinburg.org
SUMMARY:April Trustees Meeting – 3rd Monday of the Month
DESCRIPTION:
URL:https://austinburg.org/event/april-trustees-meeting-4-20-2026/
LOCATION:Austinburg Township Hall\, 2794 OH-307\, Austinburg\, OH\, 44010\, United States
CATEGORIES:Meetings
ATTACH;FMTTYPE=image/jpeg:https://austinburg.org/wp-content/uploads/2023/12/AUSTINBURG-MEETING-300.jpg
ORGANIZER;CN="Austinburg Township Trustees":MAILTO:austinburgohio@gmail.com
END:VEVENT
BEGIN:VEVENT
DTSTART;TZID=America/New_York:20260406T193000
DTEND;TZID=America/New_York:20260406T203000
DTSTAMP:20260420T021101
CREATED:20260220T173746Z
LAST-MODIFIED:20260220T173746Z
UID:108306-1775503800-1775507400@austinburg.org
SUMMARY:April Trustees Meeting – 1st Monday of the Month
DESCRIPTION:
URL:https://austinburg.org/event/april-trustees-meeting-4-6-2026/
LOCATION:Austinburg Township Hall\, 2794 OH-307\, Austinburg\, OH\, 44010\, United States
CATEGORIES:Meetings
ATTACH;FMTTYPE=image/jpeg:https://austinburg.org/wp-content/uploads/2023/12/AUSTINBURG-MEETING-300.jpg
ORGANIZER;CN="Austinburg Township Trustees":MAILTO:austinburgohio@gmail.com
END:VEVENT
BEGIN:VEVENT
DTSTART;TZID=America/New_York:20260404T100000
DTEND;TZID=America/New_York:20260404T110000
DTSTAMP:20260420T021101
CREATED:20260317T144052Z
LAST-MODIFIED:20260317T144052Z
UID:108344-1775296800-1775300400@austinburg.org
SUMMARY:Easter Egg Hunt
DESCRIPTION:
URL:https://austinburg.org/event/easter-egg-hunt/
LOCATION:Austinburg Township Park\, 1712 Maple St\, Austinburg\, OH\, 44010
ATTACH;FMTTYPE=image/jpeg:https://austinburg.org/wp-content/uploads/2026/03/egg-hunt.jpeg
END:VEVENT
BEGIN:VEVENT
DTSTART;TZID=America/New_York:20260401T180000
DTEND;TZID=America/New_York:20260401T190000
DTSTAMP:20260420T021101
CREATED:20241215T204238Z
LAST-MODIFIED:20260407T125430Z
UID:107347-1775066400-1775070000@austinburg.org
SUMMARY:April Zoning Board Meeting
DESCRIPTION:
URL:https://austinburg.org/event/april-zoning-board-meeting/
LOCATION:Austinburg Township Hall\, 2794 OH-307\, Austinburg\, OH\, 44010\, United States
CATEGORIES:Zoning Board Meetings
ATTACH;FMTTYPE=image/jpeg:https://austinburg.org/wp-content/uploads/2023/12/AUSTINBURG-MEETING-zoning.jpg
ORGANIZER;CN="Austinburg Zoning Board":MAILTO:zoningsecretary44010@gmail.com
END:VEVENT
BEGIN:VEVENT
DTSTART;TZID=America/New_York:20260316T193000
DTEND;TZID=America/New_York:20260316T203000
DTSTAMP:20260420T021101
CREATED:20260220T173510Z
LAST-MODIFIED:20260220T173510Z
UID:108304-1773689400-1773693000@austinburg.org
SUMMARY:March Trustees Meeting – 3rd Monday of the Month
DESCRIPTION:
URL:https://austinburg.org/event/march-trustees-meeting-3-16-2026/
LOCATION:Austinburg Township Hall\, 2794 OH-307\, Austinburg\, OH\, 44010\, United States
CATEGORIES:Meetings
ATTACH;FMTTYPE=image/jpeg:https://austinburg.org/wp-content/uploads/2023/12/AUSTINBURG-MEETING-300.jpg
ORGANIZER;CN="Austinburg Township Trustees":MAILTO:austinburgohio@gmail.com
END:VEVENT
BEGIN:VEVENT
DTSTART;TZID=America/New_York:20260302T193000
DTEND;TZID=America/New_York:20260302T203000
DTSTAMP:20260420T021101
CREATED:20260220T173324Z
LAST-MODIFIED:20260220T173354Z
UID:108302-1772479800-1772483400@austinburg.org
SUMMARY:March Trustees Meeting – 1st Monday of the Month
DESCRIPTION:
URL:https://austinburg.org/event/march-trustees-meeting-3-2-2026/
LOCATION:Austinburg Township Hall\, 2794 OH-307\, Austinburg\, OH\, 44010\, United States
CATEGORIES:Meetings
ATTACH;FMTTYPE=image/jpeg:https://austinburg.org/wp-content/uploads/2023/12/AUSTINBURG-MEETING-300.jpg
ORGANIZER;CN="Austinburg Township Trustees":MAILTO:austinburgohio@gmail.com
END:VEVENT
BEGIN:VEVENT
DTSTART;TZID=America/New_York:20260217T193000
DTEND;TZID=America/New_York:20260217T203000
DTSTAMP:20260420T021101
CREATED:20260220T173105Z
LAST-MODIFIED:20260220T173105Z
UID:108300-1771356600-1771360200@austinburg.org
SUMMARY:February Trustees Meeting – 3rd Tuesday of the Month
DESCRIPTION:
URL:https://austinburg.org/event/february-trustees-meeting-2-17-2026/
LOCATION:Austinburg Township Hall\, 2794 OH-307\, Austinburg\, OH\, 44010\, United States
CATEGORIES:Meetings
ATTACH;FMTTYPE=image/jpeg:https://austinburg.org/wp-content/uploads/2023/12/AUSTINBURG-MEETING-300.jpg
ORGANIZER;CN="Austinburg Township Trustees":MAILTO:austinburgohio@gmail.com
END:VEVENT
BEGIN:VEVENT
DTSTART;TZID=America/New_York:20260202T193000
DTEND;TZID=America/New_York:20260202T203000
DTSTAMP:20260420T021101
CREATED:20260202T172143Z
LAST-MODIFIED:20260220T173145Z
UID:108291-1770060600-1770064200@austinburg.org
SUMMARY:February Trustees Meeting – 1st Monday of the Month
DESCRIPTION:
URL:https://austinburg.org/event/february-trustees-meeting-2-2-2026/
LOCATION:Austinburg Township Hall\, 2794 OH-307\, Austinburg\, OH\, 44010\, United States
CATEGORIES:Meetings
ATTACH;FMTTYPE=image/jpeg:https://austinburg.org/wp-content/uploads/2023/12/AUSTINBURG-MEETING-300.jpg
ORGANIZER;CN="Austinburg Township Trustees":MAILTO:austinburgohio@gmail.com
END:VEVENT
BEGIN:VEVENT
DTSTART;TZID=America/New_York:20260120T193000
DTEND;TZID=America/New_York:20260120T203000
DTSTAMP:20260420T021101
CREATED:20260120T144816Z
LAST-MODIFIED:20260220T173642Z
UID:107302-1768937400-1768941000@austinburg.org
SUMMARY:January Trustees Meeting – 3rd Tuesday of the Month
DESCRIPTION:
URL:https://austinburg.org/event/january-trustees-meeting-1-20-2026/
LOCATION:Austinburg Township Hall\, 2794 OH-307\, Austinburg\, OH\, 44010\, United States
CATEGORIES:Meetings
ATTACH;FMTTYPE=image/jpeg:https://austinburg.org/wp-content/uploads/2023/12/AUSTINBURG-MEETING-300.jpg
ORGANIZER;CN="Austinburg Township Trustees":MAILTO:austinburgohio@gmail.com
END:VEVENT
BEGIN:VEVENT
DTSTART;TZID=America/New_York:20260105T193000
DTEND;TZID=America/New_York:20260105T203000
DTSTAMP:20260420T021101
CREATED:20260220T172019Z
LAST-MODIFIED:20260220T173625Z
UID:108288-1767641400-1767645000@austinburg.org
SUMMARY:January Trustees Meeting - 1st Monday of the Month
DESCRIPTION:
URL:https://austinburg.org/event/january-trustees-meeting-1-5-2026/
LOCATION:Austinburg Township Hall\, 2794 OH-307\, Austinburg\, OH\, 44010\, United States
CATEGORIES:Meetings
ATTACH;FMTTYPE=image/jpeg:https://austinburg.org/wp-content/uploads/2023/12/AUSTINBURG-MEETING-300.jpg
ORGANIZER;CN="Austinburg Township Trustees":MAILTO:austinburgohio@gmail.com
END:VEVENT
BEGIN:VEVENT
DTSTART;TZID=America/New_York:20251020T193000
DTEND;TZID=America/New_York:20251020T203000
DTSTAMP:20260420T021101
CREATED:20241214T133432Z
LAST-MODIFIED:20241214T133503Z
UID:107292-1760988600-1760992200@austinburg.org
SUMMARY:October Trustees Meeting – 3rd Monday of the Month
DESCRIPTION:
URL:https://austinburg.org/event/october-trustees-meeting-1st-monday-of-the-month-2/
LOCATION:Austinburg Township Hall\, 2794 OH-307\, Austinburg\, OH\, 44010\, United States
CATEGORIES:Meetings
ATTACH;FMTTYPE=image/jpeg:https://austinburg.org/wp-content/uploads/2023/12/AUSTINBURG-MEETING-300.jpg
ORGANIZER;CN="Austinburg Township Trustees":MAILTO:austinburgohio@gmail.com
END:VEVENT
BEGIN:VEVENT
DTSTART;TZID=America/New_York:20251006T193000
DTEND;TZID=America/New_York:20251006T203000
DTSTAMP:20260420T021101
CREATED:20241214T133740Z
LAST-MODIFIED:20241214T134305Z
UID:107298-1759779000-1759782600@austinburg.org
SUMMARY:October Trustees Meeting – 1st Monday of the Month
DESCRIPTION:
URL:https://austinburg.org/event/december-trustees-meeting-1st-monday-of-the-month-2/
LOCATION:Austinburg Township Hall\, 2794 OH-307\, Austinburg\, OH\, 44010\, United States
CATEGORIES:Meetings
ATTACH;FMTTYPE=image/jpeg:https://austinburg.org/wp-content/uploads/2023/12/AUSTINBURG-MEETING-300.jpg
ORGANIZER;CN="Austinburg Township Trustees":MAILTO:austinburgohio@gmail.com
END:VEVENT
BEGIN:VEVENT
DTSTART;TZID=America/New_York:20250915T193000
DTEND;TZID=America/New_York:20250915T203000
DTSTAMP:20260420T021101
CREATED:20241214T133251Z
LAST-MODIFIED:20241214T133251Z
UID:107290-1757964600-1757968200@austinburg.org
SUMMARY:September Trustees Meeting – 3rd Monday of the Month
DESCRIPTION:
URL:https://austinburg.org/event/september-trustees-meeting-3rd-monday-of-the-month-2/
LOCATION:Austinburg Township Hall\, 2794 OH-307\, Austinburg\, OH\, 44010\, United States
CATEGORIES:Meetings
ATTACH;FMTTYPE=image/jpeg:https://austinburg.org/wp-content/uploads/2023/12/AUSTINBURG-MEETING-300.jpg
ORGANIZER;CN="Austinburg Township Trustees":MAILTO:austinburgohio@gmail.com
END:VEVENT
BEGIN:VEVENT
DTSTART;TZID=America/New_York:20250902T193000
DTEND;TZID=America/New_York:20250902T203000
DTSTAMP:20260420T021101
CREATED:20241214T133148Z
LAST-MODIFIED:20241214T133148Z
UID:107288-1756841400-1756845000@austinburg.org
SUMMARY:September Trustees Meeting – 1st of the Month (moved to Tuesday)
DESCRIPTION:
URL:https://austinburg.org/event/september-trustees-meeting-1st-of-the-month-moved-to-tuesday/
LOCATION:Austinburg Township Hall\, 2794 OH-307\, Austinburg\, OH\, 44010\, United States
CATEGORIES:Meetings
ATTACH;FMTTYPE=image/jpeg:https://austinburg.org/wp-content/uploads/2023/12/AUSTINBURG-MEETING-300.jpg
ORGANIZER;CN="Austinburg Township Trustees":MAILTO:austinburgohio@gmail.com
END:VEVENT
BEGIN:VEVENT
DTSTART;TZID=America/New_York:20250818T193000
DTEND;TZID=America/New_York:20250818T203000
DTSTAMP:20260420T021101
CREATED:20241214T132942Z
LAST-MODIFIED:20241214T132942Z
UID:107286-1755545400-1755549000@austinburg.org
SUMMARY:August Trustees Meeting – 3rd Monday of the Month
DESCRIPTION:
URL:https://austinburg.org/event/august-trustees-meeting-3rd-monday-of-the-month-2/
LOCATION:Austinburg Township Hall\, 2794 OH-307\, Austinburg\, OH\, 44010\, United States
CATEGORIES:Meetings
ATTACH;FMTTYPE=image/jpeg:https://austinburg.org/wp-content/uploads/2023/12/AUSTINBURG-MEETING-300.jpg
ORGANIZER;CN="Austinburg Township Trustees":MAILTO:austinburgohio@gmail.com
END:VEVENT
BEGIN:VEVENT
DTSTART;TZID=America/New_York:20250804T193000
DTEND;TZID=America/New_York:20250804T203000
DTSTAMP:20260420T021101
CREATED:20241214T132853Z
LAST-MODIFIED:20241214T132853Z
UID:107284-1754335800-1754339400@austinburg.org
SUMMARY:August Trustees Meeting – 1st Monday of the Month
DESCRIPTION:
URL:https://austinburg.org/event/august-trustees-meeting-1st-monday-of-the-month-2/
LOCATION:Austinburg Township Hall\, 2794 OH-307\, Austinburg\, OH\, 44010\, United States
CATEGORIES:Meetings
ATTACH;FMTTYPE=image/jpeg:https://austinburg.org/wp-content/uploads/2023/12/AUSTINBURG-MEETING-300.jpg
ORGANIZER;CN="Austinburg Township Trustees":MAILTO:austinburgohio@gmail.com
END:VEVENT
BEGIN:VEVENT
DTSTART;TZID=America/New_York:20250721T193000
DTEND;TZID=America/New_York:20250721T203000
DTSTAMP:20260420T021101
CREATED:20241214T132755Z
LAST-MODIFIED:20241214T132755Z
UID:107282-1753126200-1753129800@austinburg.org
SUMMARY:July Trustees Meeting – 3rd Monday of the Month
DESCRIPTION:
URL:https://austinburg.org/event/july-trustees-meeting-3rd-monday-of-the-month-2/
LOCATION:Austinburg Township Hall\, 2794 OH-307\, Austinburg\, OH\, 44010\, United States
CATEGORIES:Meetings
ATTACH;FMTTYPE=image/jpeg:https://austinburg.org/wp-content/uploads/2023/12/AUSTINBURG-MEETING-300.jpg
ORGANIZER;CN="Austinburg Township Trustees":MAILTO:austinburgohio@gmail.com
END:VEVENT
BEGIN:VEVENT
DTSTART;TZID=America/New_York:20250707T193000
DTEND;TZID=America/New_York:20250707T203000
DTSTAMP:20260420T021101
CREATED:20241214T132701Z
LAST-MODIFIED:20241214T132701Z
UID:107280-1751916600-1751920200@austinburg.org
SUMMARY:July Trustees Meeting – 1st Monday of the Month
DESCRIPTION:
URL:https://austinburg.org/event/july-trustees-meeting-1st-monday-of-the-month-2/
LOCATION:Austinburg Township Hall\, 2794 OH-307\, Austinburg\, OH\, 44010\, United States
CATEGORIES:Meetings
ATTACH;FMTTYPE=image/jpeg:https://austinburg.org/wp-content/uploads/2023/12/AUSTINBURG-MEETING-300.jpg
ORGANIZER;CN="Austinburg Township Trustees":MAILTO:austinburgohio@gmail.com
END:VEVENT
BEGIN:VEVENT
DTSTART;TZID=America/New_York:20250616T193000
DTEND;TZID=America/New_York:20250616T203000
DTSTAMP:20260420T021101
CREATED:20241214T132540Z
LAST-MODIFIED:20241214T132540Z
UID:107278-1750102200-1750105800@austinburg.org
SUMMARY:June Trustees Meeting – 3rd Monday of the Month
DESCRIPTION:
URL:https://austinburg.org/event/june-trustees-meeting-3rd-monday-of-the-month-2/
LOCATION:Austinburg Township Hall\, 2794 OH-307\, Austinburg\, OH\, 44010\, United States
CATEGORIES:Meetings
ATTACH;FMTTYPE=image/jpeg:https://austinburg.org/wp-content/uploads/2023/12/AUSTINBURG-MEETING-300.jpg
ORGANIZER;CN="Austinburg Township Trustees":MAILTO:austinburgohio@gmail.com
END:VEVENT
BEGIN:VEVENT
DTSTART;TZID=America/New_York:20250602T193000
DTEND;TZID=America/New_York:20250602T203000
DTSTAMP:20260420T021101
CREATED:20241214T132444Z
LAST-MODIFIED:20241214T132444Z
UID:107276-1748892600-1748896200@austinburg.org
SUMMARY:June Trustees Meeting – 1st Monday of the Month
DESCRIPTION:
URL:https://austinburg.org/event/june-trustees-meeting-1st-monday-of-the-month-2/
LOCATION:Austinburg Township Hall\, 2794 OH-307\, Austinburg\, OH\, 44010\, United States
CATEGORIES:Meetings
ATTACH;FMTTYPE=image/jpeg:https://austinburg.org/wp-content/uploads/2023/12/AUSTINBURG-MEETING-300.jpg
ORGANIZER;CN="Austinburg Township Trustees":MAILTO:austinburgohio@gmail.com
END:VEVENT
BEGIN:VEVENT
DTSTART;TZID=America/New_York:20250519T193000
DTEND;TZID=America/New_York:20250519T203000
DTSTAMP:20260420T021101
CREATED:20241214T132256Z
LAST-MODIFIED:20241214T132345Z
UID:107274-1747683000-1747686600@austinburg.org
SUMMARY:May Trustees Meeting – 3rd Monday of the Month
DESCRIPTION:
URL:https://austinburg.org/event/may-trustees-meeting-3rd-monday-of-the-month-2/
LOCATION:Austinburg Township Hall\, 2794 OH-307\, Austinburg\, OH\, 44010\, United States
CATEGORIES:Meetings
ATTACH;FMTTYPE=image/jpeg:https://austinburg.org/wp-content/uploads/2023/12/AUSTINBURG-MEETING-300.jpg
ORGANIZER;CN="Austinburg Township Trustees":MAILTO:austinburgohio@gmail.com
END:VEVENT
BEGIN:VEVENT
DTSTART;TZID=America/New_York:20250505T193000
DTEND;TZID=America/New_York:20250505T203000
DTSTAMP:20260420T021101
CREATED:20241214T132203Z
LAST-MODIFIED:20241214T132203Z
UID:107272-1746473400-1746477000@austinburg.org
SUMMARY:May Trustees Meeting – 1st Monday of the Month
DESCRIPTION:
URL:https://austinburg.org/event/may-trustees-meeting-1st-monday-of-the-month-2/
LOCATION:Austinburg Township Hall\, 2794 OH-307\, Austinburg\, OH\, 44010\, United States
CATEGORIES:Meetings
ATTACH;FMTTYPE=image/jpeg:https://austinburg.org/wp-content/uploads/2023/12/AUSTINBURG-MEETING-300.jpg
ORGANIZER;CN="Austinburg Township Trustees":MAILTO:austinburgohio@gmail.com
END:VEVENT
BEGIN:VEVENT
DTSTART;TZID=America/New_York:20250421T193000
DTEND;TZID=America/New_York:20250421T203000
DTSTAMP:20260420T021101
CREATED:20241214T131928Z
LAST-MODIFIED:20241214T131928Z
UID:107270-1745263800-1745267400@austinburg.org
SUMMARY:April Trustees Meeting – 3rd Monday of the Month
DESCRIPTION:
URL:https://austinburg.org/event/april-trustees-meeting-3rd-monday-of-the-month-2/
LOCATION:Austinburg Township Hall\, 2794 OH-307\, Austinburg\, OH\, 44010\, United States
CATEGORIES:Meetings
ATTACH;FMTTYPE=image/jpeg:https://austinburg.org/wp-content/uploads/2023/12/AUSTINBURG-MEETING-300.jpg
ORGANIZER;CN="Austinburg Township Trustees":MAILTO:austinburgohio@gmail.com
END:VEVENT
BEGIN:VEVENT
DTSTART;TZID=America/New_York:20250407T193000
DTEND;TZID=America/New_York:20250407T203000
DTSTAMP:20260420T021101
CREATED:20241214T131806Z
LAST-MODIFIED:20241214T131806Z
UID:107268-1744054200-1744057800@austinburg.org
SUMMARY:April Trustees Meeting – 1st Monday of the Month
DESCRIPTION:
URL:https://austinburg.org/event/april-trustees-meeting-1st-monday-of-the-month-2/
LOCATION:Austinburg Township Hall\, 2794 OH-307\, Austinburg\, OH\, 44010\, United States
CATEGORIES:Meetings
ATTACH;FMTTYPE=image/jpeg:https://austinburg.org/wp-content/uploads/2023/12/AUSTINBURG-MEETING-300.jpg
ORGANIZER;CN="Austinburg Township Trustees":MAILTO:austinburgohio@gmail.com
END:VEVENT
BEGIN:VEVENT
DTSTART;TZID=America/New_York:20250319T180000
DTEND;TZID=America/New_York:20250319T190000
DTSTAMP:20260420T021101
CREATED:20250311T222220Z
LAST-MODIFIED:20250311T222425Z
UID:107765-1742407200-1742410800@austinburg.org
SUMMARY:March 19th Zoning Board Meeting
DESCRIPTION:
URL:https://austinburg.org/event/march19-zoning-board-meeting-2/
LOCATION:Austinburg Township Hall\, 2794 OH-307\, Austinburg\, OH\, 44010\, United States
CATEGORIES:Zoning Board Meetings
ATTACH;FMTTYPE=image/jpeg:https://austinburg.org/wp-content/uploads/2023/12/AUSTINBURG-MEETING-zoning.jpg
ORGANIZER;CN="Austinburg Zoning Board":MAILTO:zoningsecretary44010@gmail.com
END:VEVENT
BEGIN:VEVENT
DTSTART;TZID=America/New_York:20250317T193000
DTEND;TZID=America/New_York:20250317T203000
DTSTAMP:20260420T021101
CREATED:20241214T131604Z
LAST-MODIFIED:20241214T131604Z
UID:107266-1742239800-1742243400@austinburg.org
SUMMARY:March Trustees Meeting – 3rd Monday of the Month
DESCRIPTION:
URL:https://austinburg.org/event/march-trustees-meeting-3rd-monday-of-the-month-2/
LOCATION:Austinburg Township Hall\, 2794 OH-307\, Austinburg\, OH\, 44010\, United States
CATEGORIES:Meetings
ATTACH;FMTTYPE=image/jpeg:https://austinburg.org/wp-content/uploads/2023/12/AUSTINBURG-MEETING-300.jpg
ORGANIZER;CN="Austinburg Township Trustees":MAILTO:austinburgohio@gmail.com
END:VEVENT
BEGIN:VEVENT
DTSTART;TZID=America/New_York:20250305T180000
DTEND;TZID=America/New_York:20250305T190000
DTSTAMP:20260420T021101
CREATED:20241215T203957Z
LAST-MODIFIED:20241215T203957Z
UID:107345-1741197600-1741201200@austinburg.org
SUMMARY:March Zoning Board Meeting
DESCRIPTION:
URL:https://austinburg.org/event/march-zoning-board-meeting/
LOCATION:Austinburg Township Hall\, 2794 OH-307\, Austinburg\, OH\, 44010\, United States
CATEGORIES:Zoning Board Meetings
ATTACH;FMTTYPE=image/jpeg:https://austinburg.org/wp-content/uploads/2023/12/AUSTINBURG-MEETING-zoning.jpg
ORGANIZER;CN="Austinburg Zoning Board":MAILTO:zoningsecretary44010@gmail.com
END:VEVENT
BEGIN:VEVENT
DTSTART;TZID=America/New_York:20250303T193000
DTEND;TZID=America/New_York:20250303T203000
DTSTAMP:20260420T021101
CREATED:20241214T131507Z
LAST-MODIFIED:20241214T131507Z
UID:107264-1741030200-1741033800@austinburg.org
SUMMARY:March Trustees Meeting – 1st Monday of the Month
DESCRIPTION:
URL:https://austinburg.org/event/march-trustees-meeting-1st-monday-of-the-month-2/
LOCATION:Austinburg Township Hall\, 2794 OH-307\, Austinburg\, OH\, 44010\, United States
CATEGORIES:Meetings
ATTACH;FMTTYPE=image/jpeg:https://austinburg.org/wp-content/uploads/2023/12/AUSTINBURG-MEETING-300.jpg
ORGANIZER;CN="Austinburg Township Trustees":MAILTO:austinburgohio@gmail.com
END:VEVENT
BEGIN:VEVENT
DTSTART;TZID=America/New_York:20250217T193000
DTEND;TZID=America/New_York:20250217T203000
DTSTAMP:20260420T021101
CREATED:20241214T131348Z
LAST-MODIFIED:20241214T131348Z
UID:107262-1739820600-1739824200@austinburg.org
SUMMARY:February Trustees Meeting – 3rd Monday of the Month
DESCRIPTION:
URL:https://austinburg.org/event/february-trustees-meeting-3rd-monday-of-the-month-2/
LOCATION:Austinburg Township Hall\, 2794 OH-307\, Austinburg\, OH\, 44010\, United States
CATEGORIES:Meetings
ATTACH;FMTTYPE=image/jpeg:https://austinburg.org/wp-content/uploads/2023/12/AUSTINBURG-MEETING-300.jpg
ORGANIZER;CN="Austinburg Township Trustees":MAILTO:austinburgohio@gmail.com
END:VEVENT
END:VCALENDAR